BEGIN:VCALENDAR
VERSION:2.0
PRODID:-//Sindh HEC - ECPv6.15.13//NONSGML v1.0//EN
CALSCALE:GREGORIAN
METHOD:PUBLISH
X-WR-CALNAME:Sindh HEC
X-ORIGINAL-URL:https://sindhhec.gov.pk
X-WR-CALDESC:Events for Sindh HEC
REFRESH-INTERVAL;VALUE=DURATION:PT1H
X-Robots-Tag:noindex
X-PUBLISHED-TTL:PT1H
BEGIN:VTIMEZONE
TZID:Asia/Karachi
BEGIN:STANDARD
TZOFFSETFROM:+0500
TZOFFSETTO:+0500
TZNAME:PKT
DTSTART:20220101T000000
END:STANDARD
END:VTIMEZONE
BEGIN:VEVENT
DTSTART;VALUE=DATE:20250226
DTEND;VALUE=DATE:20250228
DTSTAMP:20260425T152222
CREATED:20250105T093630Z
LAST-MODIFIED:20250105T093631Z
UID:16180-1740546000-1740632399@sindhhec.gov.pk
SUMMARY:Career Connect / Job Fair 2025 - SINDH HEC
DESCRIPTION:Career Connect / Job Fair 2025 has been scheduled to be held on the 26th February 2025 at Expo Center Hall no 6.
URL:https://sindhhec.gov.pk/event/career-connect-job-fair-2025-sindh-hec/
LOCATION:EXPO CENTER KARACHI\, Gulshan-e-Iqbal Karachi\, Karachi\, Sindh\, Pakistan
ORGANIZER;CN="Sindh Higher Education Commission":MAILTO:info@sindhhec.gov.pk
END:VEVENT
BEGIN:VEVENT
DTSTART;VALUE=DATE:20250122
DTEND;VALUE=DATE:20250125
DTSTAMP:20260425T152222
CREATED:20250105T094225Z
LAST-MODIFIED:20250105T094532Z
UID:16183-1737522000-1737694799@sindhhec.gov.pk
SUMMARY:Sindh Research Technology Showcase (SRSP) 2025
DESCRIPTION:Sindh Research Technology Showcase 2025\, the mega event of Sindh Higher Education Commission has been scheduled to be held on the 22nd and 23rd January 2025 at Expo Center Hall no 6.
URL:https://sindhhec.gov.pk/event/sindh-research-technology-showcase-srsp-2025/
LOCATION:EXPO CENTER KARACHI\, Gulshan-e-Iqbal Karachi\, Karachi\, Sindh\, Pakistan
ORGANIZER;CN="Sindh Higher Education Commission":MAILTO:info@sindhhec.gov.pk
END:VEVENT
BEGIN:VEVENT
DTSTART;VALUE=DATE:20250112
DTEND;VALUE=DATE:20250202
DTSTAMP:20260425T152222
CREATED:20250105T094413Z
LAST-MODIFIED:20250105T094414Z
UID:16185-1736658000-1738385999@sindhhec.gov.pk
SUMMARY:Second Meeting of Sindh Research Support Programme
DESCRIPTION:Second Meeting of Sindh Research Support Programme (SRSP) will be held in the month of January to allocate the Research Projects of FY 2024-25.
URL:https://sindhhec.gov.pk/event/second-meeting-of-sindh-research-support-programme/
LOCATION:sindh hec\, Pakistan
ORGANIZER;CN="Sindh Higher Education Commission":MAILTO:info@sindhhec.gov.pk
END:VEVENT
BEGIN:VEVENT
DTSTART;TZID=Asia/Karachi:20241119T140000
DTEND;TZID=Asia/Karachi:20241119T220000
DTSTAMP:20260425T152222
CREATED:20241124T014306Z
LAST-MODIFIED:20241124T032426Z
UID:15991-1732024800-1732053600@sindhhec.gov.pk
SUMMARY:SINDH STARTUPS EXHIBITION 2024 - Sindh HEC & FPCCI MOU Signing Ceremony
DESCRIPTION:SINDH STARTUPS EXHIBITION 2024 – Sindh HEC & FPCCI MOU Signing Ceremony \nThe Sindh Higher Education Commission (SHEC) and The Federation of Pakistan Chamber of Commerce & Industry (FPCCI) signed a Memorandum of Understanding (MOU) for “Sindh Startups Exhibition 2024” which took place at the FPCCI head office Karachi on 19th of November 2024. \n  \nThe signing ceremony marked a pivotal step forward in collaboration to launch the Sindh Startups Exhibition 2024 initiative that aims to fostering innovation and entrepreneurship within the Academic Institutions and Industry. The event has brought together esteemed dignitaries from the Sindh HEC\, Vice Chancellors from prominent and participating Universities and the key industry leaders. The event was widely projected through the representatives of Press and Electronic Media. \nThrought this MOU\, Sindh HEC will facilitate all participating universities by providing free of cost stalls for their products/technologies\, provide platform to all industry relevant researches\, commercializable technologies and Startups from Universities across Sindh to display in the event which will promote participating universities\, enhance educational standards of higher education which will lead to increase the employability whereas FPCCI will provide free of cost premises\, ensure maximum participation of industries in the event and will also facilitate the marketing of the event among industries and distinguished guests such as foreign delegates\, investors\, ministries etc. \nThe event started with the recitation from the Holy Quran and the welcome address of Mr. Saquib Fayyaz Magoon\, Senior Vice President (FPCCI). Ms. Maheen Salman\, Convenor FPCCI Central Standing Committee on Higher Education\, Science & Technology addressed the audience in which she highlighted the importance of the event. Prof. Dr. Sarosh Lodhi\, Vice Chancellor\, NED university of Engineering & Technology along with Mr. Zubair Baweja\, Former Vice President FPCCI\, Mr. Khurram Ashfaq\, Convener FPCCI Sindh Regional Standing Committee on Liaison with Provincial Government for Industries and Mr. Khushnood Aftab\, Convener FPCCI Central Standing Committee on Information Technology shared their views and graced the event. At the end the Chief Guest Prof. Dr. S. M. Tariq Rafi\, T.I\, Chairman of Sindh Higher Education Commission (SHEC) presented the keynote address in which he said; \n“No country can survive in the world alone\, the biggest hurdle in the growth and development of Pakistan is our own self as we fail to return back what all we have achieved from Pakistan. We need to produce thinkers for which a dynamic shift is required by curriculum transformation. It is a big responsibility for us to contribute in our capacities. The technical experts should participate more in universities and conduct sessions and also train the faculty members which can help in bridging the gap between industry and academia. The platform of SHEC welcomes all those who want to contribute. We need to work hard together to support our country and our future”. \n  \n  \n \n \n 
URL:https://sindhhec.gov.pk/event/mou-to-shec-fpcci24/
CATEGORIES:Newevents,News
ORGANIZER;CN="Sindh Higher Education Commission":MAILTO:info@sindhhec.gov.pk
END:VEVENT
BEGIN:VEVENT
DTSTART;VALUE=DATE:20240523
DTEND;VALUE=DATE:20240527
DTSTAMP:20260425T152222
CREATED:20240528T113916Z
LAST-MODIFIED:20240528T115023Z
UID:15678-1716440400-1716699599@sindhhec.gov.pk
SUMMARY:SINDH HEC ORGANISES PROFESSIONAL DEVELOPMENT PROGRAMME FOR DEANS AT NATIONAL INSTITUTE OF MANAGEMENT (NIM) KARACHI
DESCRIPTION:KARACHI: \nThe Sindh Higher Education Commission successfully organised a three-day “Professional Development Programme for Future Leaders (Deans)” at public sector universities in Sindh. The event took place at the National Institute of Management (NIM) in Karachi from May 23rd to May 25th\, 2024. The programme served as the initial stage of an undertaking aimed at equipping 30 participating deans with essential administrative\, financial\, and strategic planning skills. \nThe training programme was designed to enhance the deans’ skills in strategic planning\, decision-making\, and resource management\, with the recognition that they may potentially become Vice Chancellors in the future. The comprehensive three-day programme features presentations by seasoned experts on various crucial topics\, such as Leadership Team Building\, Public Procurement Procedures\, PPRA and SPPRA Rules\, the ORIC and Research Ecosystem\, and Managing the Audit Paras. \nDuring the last day\, Prof. Dr. S.M. Tariq Rafi\, Chairperson of Sindh Higher Education Commission\, emphasised the need of administrative and financial skills for academic leaders. He expressed that academicians often lack the necessary administrative and financial skills to enhance an institution’s success and reputation\, despite their proficiency in teaching and research. This training programme is a significant measure in bridging that gap. \nProf. Dr. Tariq Rafi praised the deans for successfully finishing the programme and urged them to apply their newly acquired talents at their own universities and train others. The event concluded with the distribution of certificates to all attendees\, indicating their dedication to guiding their colleges towards excellence. \n  \n                                     \n  \n 
URL:https://sindhhec.gov.pk/event/prof_dev_prog_deans_nipa/
LOCATION:NIPA Karachi\, Block 6 Gulshan-e-Iqbal\, Karachi\, Karachi City\, Sindh\, Karachi\, Sindh\, 75300\, Pakistan
ORGANIZER;CN="Sindh Higher Education Commission":MAILTO:info@sindhhec.gov.pk
END:VEVENT
BEGIN:VEVENT
DTSTART;TZID=Asia/Karachi:20240405T180000
DTEND;TZID=Asia/Karachi:20240405T210000
DTSTAMP:20260425T152222
CREATED:20240406T160437Z
LAST-MODIFIED:20240406T160437Z
UID:15583-1712340000-1712350800@sindhhec.gov.pk
SUMMARY:Sindh HEC Hosts Prestigious Iftar-Dinner for Vice Chancellors & Stakeholders
DESCRIPTION:KARACHI: The Sindh Higher Education Commission (Sindh HEC) organized a grand Iftar-dinner on Friday at the Movenpick Hotel.\nThis exclusive event was held in honour of the respected vice chancellors representing both public and private universities across the province\, marking a momentous occasion in fostering collaboration and camaraderie within the academic community.\nThe Sindh HEC Iftar-dinner garnered significant attention and attendance\, boasting the presence of distinguished guests including representatives from the consulates of the United States\, Turkey\, Malaysia\, Iran\, and various heads of respective fields.\nNotable figures from the U.S Consulate included Anamaria Karrels\, Public Diplomacy Officer; Lee McManis\, Public Affairs Officer; and Belal Rizvi\, Program Management Coordinator (Exchanges).\nTurkish Consulate General\, Cemal Sangu also graced the occasion. Representing the Iranian Consulate was Mahmood Shaikh\, Director of Iranian School\, while the Malaysian Consulate was represented by Vice Consul Mrs. Nor Azua Sulaili who was accompanied by her spouse.\nThe vice chancellors attending the event included Professor Saeed Qureshi (Dow University of Health Sciences)\, Professor Nusrat Shah (SMBB Medical University\, Larkana)\, Professor Parveen Munshi (University of Sufism and Modern Sciences\, Bhitshah)\, Pirzada Qasim (Ziauddin University) and Dr Huma Baqai\, Rector Millennium Institute of Technology and Entrepreneurship. \nIn recognizing the importance of the gathering\, Professor Dr S.M. Tariq Rafi\, Chairperson of Sindh HEC\, underscored its role as a catalyst for closer ties between the heads of public and private universities. ‘Through this iftar dinner\, a platform is established for the exchange of ideas\, fostering a robust camaraderie\, and forging enduring connections within an atmosphere of congeniality and mutual respect\,’ he said. \nMartin Dawson\, the British Deputy High Commissioner\, lauded the Sindh HEC’s efforts to organise the event and emphasised it will help in connecting the acedemicians. \n“I am thankful to Sindh HEC for organizing this wonderful event because it surely helps built bridges among people and the higher learning institutions besides signifying the spirit of this holy month of Ramazan\,” said  “To be amongst so many learned people here under one roof is a great feeling really.” \nAlso present were Javed Memon\, Director of HEC Regional Office Karachi\, and Dr. Naveed Yousuf\, Interim CEO of the Agha Khan University Examination Board\, Karachi. \n  \n  \n \n 
URL:https://sindhhec.gov.pk/event/sindh-hec-hosts-iftar-dinner/
LOCATION:Moven Pick Hotel\, Karachi Club Road\, Karachi\, Pakistan
ORGANIZER;CN="Sindh Higher Education Commission":MAILTO:info@sindhhec.gov.pk
END:VEVENT
BEGIN:VEVENT
DTSTART;TZID=Asia/Karachi:20230923T130000
DTEND;TZID=Asia/Karachi:20231001T220000
DTSTAMP:20260425T152222
CREATED:20230922T052618Z
LAST-MODIFIED:20230922T052618Z
UID:15248-1695474000-1696197600@sindhhec.gov.pk
SUMMARY:SRSP
DESCRIPTION:SRSP Event info
URL:https://sindhhec.gov.pk/event/srsp/
LOCATION:sindh hec\, Pakistan
END:VEVENT
BEGIN:VEVENT
DTSTART;TZID=Asia/Karachi:20230913T130000
DTEND;TZID=Asia/Karachi:20230914T220000
DTSTAMP:20260425T152222
CREATED:20230922T052644Z
LAST-MODIFIED:20230922T052644Z
UID:15251-1694610000-1694728800@sindhhec.gov.pk
SUMMARY:test event
DESCRIPTION:test event info
URL:https://sindhhec.gov.pk/event/test-event/
END:VEVENT
END:VCALENDAR